BEGIN:VCALENDAR
VERSION:2.0
PRODID:-//Upper Snowy Landcare - ECPv6.15.20//NONSGML v1.0//EN
CALSCALE:GREGORIAN
METHOD:PUBLISH
X-WR-CALNAME:Upper Snowy Landcare
X-ORIGINAL-URL:https://www.uppersnowylandcare.org.au
X-WR-CALDESC:Events for Upper Snowy Landcare
REFRESH-INTERVAL;VALUE=DURATION:PT1H
X-Robots-Tag:noindex
X-PUBLISHED-TTL:PT1H
BEGIN:VTIMEZONE
TZID:Australia/Sydney
BEGIN:STANDARD
TZOFFSETFROM:+1100
TZOFFSETTO:+1000
TZNAME:AEST
DTSTART:20190406T160000
END:STANDARD
BEGIN:DAYLIGHT
TZOFFSETFROM:+1000
TZOFFSETTO:+1100
TZNAME:AEDT
DTSTART:20191005T160000
END:DAYLIGHT
BEGIN:STANDARD
TZOFFSETFROM:+1100
TZOFFSETTO:+1000
TZNAME:AEST
DTSTART:20200404T160000
END:STANDARD
BEGIN:DAYLIGHT
TZOFFSETFROM:+1000
TZOFFSETTO:+1100
TZNAME:AEDT
DTSTART:20201003T160000
END:DAYLIGHT
BEGIN:STANDARD
TZOFFSETFROM:+1100
TZOFFSETTO:+1000
TZNAME:AEST
DTSTART:20210403T160000
END:STANDARD
BEGIN:DAYLIGHT
TZOFFSETFROM:+1000
TZOFFSETTO:+1100
TZNAME:AEDT
DTSTART:20211002T160000
END:DAYLIGHT
END:VTIMEZONE
BEGIN:VEVENT
DTSTART;TZID=Australia/Sydney:20200118T090000
DTEND;TZID=Australia/Sydney:20200118T120000
DTSTAMP:20260422T094738
CREATED:20200106T155553Z
LAST-MODIFIED:20200112T225102Z
UID:2114-1579338000-1579348800@www.uppersnowylandcare.org.au
SUMMARY:Dieback Project: Count Dead Tree Hollows
DESCRIPTION:
URL:https://www.uppersnowylandcare.org.au/event/calling-all-curious-tree-lovers/
LOCATION:Whisk & Cocoa Cafe\, 2/70 Jindabyne Rd\, Berridale\, NSW\, 2628\, Australia
CATEGORIES:Dieback Project
ATTACH;FMTTYPE=image/jpeg:https://www.uppersnowylandcare.org.au/wp-content/uploads/2020/01/Tree-Hollow-Monitor-Flyer-18-21-Jan-2020-2.jpg
ORGANIZER;CN="Lauren Van Dyke":MAILTO:dieback@uppersnowylandcare.org.au
END:VEVENT
END:VCALENDAR