BEGIN:VCALENDAR
VERSION:2.0
PRODID:-//Upper Snowy Landcare - ECPv6.15.20//NONSGML v1.0//EN
CALSCALE:GREGORIAN
METHOD:PUBLISH
X-WR-CALNAME:Upper Snowy Landcare
X-ORIGINAL-URL:https://www.uppersnowylandcare.org.au
X-WR-CALDESC:Events for Upper Snowy Landcare
REFRESH-INTERVAL;VALUE=DURATION:PT1H
X-Robots-Tag:noindex
X-PUBLISHED-TTL:PT1H
BEGIN:VTIMEZONE
TZID:Australia/Sydney
BEGIN:STANDARD
TZOFFSETFROM:+1100
TZOFFSETTO:+1000
TZNAME:AEST
DTSTART:20190406T160000
END:STANDARD
BEGIN:DAYLIGHT
TZOFFSETFROM:+1000
TZOFFSETTO:+1100
TZNAME:AEDT
DTSTART:20191005T160000
END:DAYLIGHT
BEGIN:STANDARD
TZOFFSETFROM:+1100
TZOFFSETTO:+1000
TZNAME:AEST
DTSTART:20200404T160000
END:STANDARD
BEGIN:DAYLIGHT
TZOFFSETFROM:+1000
TZOFFSETTO:+1100
TZNAME:AEDT
DTSTART:20201003T160000
END:DAYLIGHT
BEGIN:STANDARD
TZOFFSETFROM:+1100
TZOFFSETTO:+1000
TZNAME:AEST
DTSTART:20210403T160000
END:STANDARD
BEGIN:DAYLIGHT
TZOFFSETFROM:+1000
TZOFFSETTO:+1100
TZNAME:AEDT
DTSTART:20211002T160000
END:DAYLIGHT
END:VTIMEZONE
BEGIN:VEVENT
DTSTART;TZID=Australia/Sydney:20200828T130000
DTEND;TZID=Australia/Sydney:20200828T170000
DTSTAMP:20260422T071643
CREATED:20200824T081426Z
LAST-MODIFIED:20200824T090236Z
UID:2619-1598619600-1598634000@www.uppersnowylandcare.org.au
SUMMARY:USLN OGM (1pm) & AGM (2.30 pm) @ Alpine Hotel Cooma - 28 Aug 2020
DESCRIPTION:Dear members and friends \nWe are pleased to invite local people to our Upper Snowy Landcare Network Ordinary General Meeting @ 1.00 pm and Annual General Meeting at 2.30 pm on Friday 28th August at the Alpine Hotel in Cooma. \nPlease consider coming along to either or both meetings as we discuss many valuable projects currently being rolled out by Upper Snowy Landcare. \nDue to COVID\, we need to manage numbers.  Please RSVP as soon as possible so we can organise table arrangements. \nWe will enjoy purchasing you a coffee\, tea\, wine\, beer along with something delicious to snack on. \nPlease email your RSVP now to contact@uppersnowylandcare.org.au \nWhen you RSVP we will send you all the requisite documents by email including agenda\, minutes\, reports etc or we will have copies available upon your arrival. \nLooking forward to seeing you. \nKindest regards\nLauren Van Dyke\nUpper Snowy Landcare Network\nPh 0411 402 978
URL:https://www.uppersnowylandcare.org.au/event/usln-ogm-agm/
LOCATION:Alpine Hotel\, Cooma\, Cooma\, 2630\, Australia
CATEGORIES:Meetings
END:VEVENT
BEGIN:VEVENT
DTSTART;VALUE=DATE:20200324
DTEND;VALUE=DATE:20200325
DTSTAMP:20260422T071643
CREATED:20200305T091544Z
LAST-MODIFIED:20200305T091544Z
UID:2460-1585008000-1585094399@www.uppersnowylandcare.org.au
SUMMARY:Help assemble tree guards\, Dalgety\, 24 March
DESCRIPTION:Tree guards are an important component in restoring our landscape. Without a guard\, our seedlings perish very quickly. \nWe are planting 1000 seedlings on this day and we will need the same number of guards made up.  We welcome any interested volunteers to work together to get the job done on-site.  It is not hard and is really a lot of fun.  But like anything repetitive the more hands-on-deck the better. \nSnacks/refreshments will be provided. \nPlease let Lauren know on email: dieback@uppersnowylandcare.org.au or on 0411 402 978 if you can make this day and all the important details will be provided.
URL:https://www.uppersnowylandcare.org.au/event/help-assemble-tree-guards-dalgety-24-march/
LOCATION:NSW
END:VEVENT
BEGIN:VEVENT
DTSTART;VALUE=DATE:20200323
DTEND;VALUE=DATE:20200324
DTSTAMP:20260422T071643
CREATED:20200305T091437Z
LAST-MODIFIED:20200305T091437Z
UID:2458-1584921600-1585007999@www.uppersnowylandcare.org.au
SUMMARY:Help us assemble tree guards\, Cooma\, Monday\, 23 March
DESCRIPTION:Tree guards are an important component in restoring our landscape. Without a guard\, our seedlings perish very quickly. \nWe are planting 1000 seedlings on this day and we will need the same number of guards made up.  We welcome any interested volunteers to work together to get the job done on-site.  It is not hard and is really a lot of fun.  But like anything repetitive\, the more hands-on-deck the better. \nSnacks/refreshments will be provided. \nPlease let Lauren know on email: dieback@uppersnowylandcare.org.au or on 0411 402 978 if you can make this day and all the important details will be provided.
URL:https://www.uppersnowylandcare.org.au/event/help-us-assemble-tree-guards-cooma-monday-23-march/
LOCATION:NSW
END:VEVENT
BEGIN:VEVENT
DTSTART;VALUE=DATE:20200316
DTEND;VALUE=DATE:20200317
DTSTAMP:20260422T071643
CREATED:20200305T091233Z
LAST-MODIFIED:20200305T091233Z
UID:2454-1584316800-1584403199@www.uppersnowylandcare.org.au
SUMMARY:Help us assemble 1000 tree guards\, Berridale\, Monday\, 16th March
DESCRIPTION:Tree guards are an important component in restoring our landscape. Without a guard\, our seedlings perish very quickly. \nWe are planting 1000 seedlings on this day and we will need the same number of guards made up.  We welcome any interested volunteers to work together to get the job done on-site.  It is not hard and is really a lot of fun.  But like anything repetitive the more hands-on-deck the better. \nSnacks/refreshments will be provided. \nPlease let Lauren know on email: dieback@uppersnowylandcare.org.au or on 0411 402 978 if you can make this day and all the important details will be provided.
URL:https://www.uppersnowylandcare.org.au/event/help-us-assemble-1000-tree-guards-berridale-monday-16th-march/
LOCATION:NSW
END:VEVENT
BEGIN:VEVENT
DTSTART;VALUE=DATE:20200314
DTEND;VALUE=DATE:20200315
DTSTAMP:20260422T071643
CREATED:20200305T085221Z
LAST-MODIFIED:20200305T085221Z
UID:2451-1584144000-1584230399@www.uppersnowylandcare.org.au
SUMMARY:Call out for help on our stall - Cooma Show\, 14 March
DESCRIPTION:CALL OUT for help on our stalls. \nDALGETY SHOW – Sunday\, 8th\nCOOMA SHOW – Saturday 14th \nPlease consider lending a hand at our stall. If you like a good yarn and giving things away then this is the place for you. Just an hour or two will really help us out. \nWe are organising a rough roster so please text or phone Lauren on 0411 402 978 with a time that suits you. Or email contact@uppersnowylandcare.org.au.
URL:https://www.uppersnowylandcare.org.au/event/call-out-for-help-on-our-stall-cooma-show-14-march/
LOCATION:Cooma Show Ground
END:VEVENT
BEGIN:VEVENT
DTSTART;TZID=Australia/Sydney:20200310T170000
DTEND;TZID=Australia/Sydney:20200310T200000
DTSTAMP:20260422T071643
CREATED:20200305T084010Z
LAST-MODIFIED:20200305T084010Z
UID:2432-1583859600-1583870400@www.uppersnowylandcare.org.au
SUMMARY:Charles Massy talk on regenerative agriculture - SMGS\, Jindabyne
DESCRIPTION:REGISTER through this link http://smgs.eventbrite.com.au
URL:https://www.uppersnowylandcare.org.au/event/charles-massy-talk-on-regenerative-agriculture-smgs-jindabyne/
LOCATION:snowy mountain grammar school\, Jindabyne
END:VEVENT
BEGIN:VEVENT
DTSTART;VALUE=DATE:20200308
DTEND;VALUE=DATE:20200309
DTSTAMP:20260422T071643
CREATED:20200305T084822Z
LAST-MODIFIED:20200305T084955Z
UID:2446-1583625600-1583711999@www.uppersnowylandcare.org.au
SUMMARY:Call out for help on our stall - Dalgety\, 8 March
DESCRIPTION:CALL OUT for help on our stalls. \nDALGETY SHOW – Sunday\, 8th\nCOOMA SHOW – Saturday 14th \n\nPlease consider lending a hand at our stall. If you like a good yarn and giving things away then this is the place for you. Just an hour or two will really help us out. \nWe are organising a rough roster so please text or phone Lauren on 0411 402 978 with a time that suits you. Or email contact@uppersnowylandcare.org.au.
URL:https://www.uppersnowylandcare.org.au/event/call-out-for-help-on-our-stall-dalgety-8-march/
LOCATION:NSW
END:VEVENT
BEGIN:VEVENT
DTSTART;TZID=Australia/Sydney:20200307T100000
DTEND;TZID=Australia/Sydney:20200307T120000
DTSTAMP:20260422T071643
CREATED:20200305T084456Z
LAST-MODIFIED:20200305T084456Z
UID:2434-1583575200-1583582400@www.uppersnowylandcare.org.au
SUMMARY:Another Pop Up planting\, Berridale\, 7 March 2020
DESCRIPTION:JOIN US FOR ANOTHER POP UP TREE PLANTING MORNING\n258 Dalgety Road\, BERRIDALE (GLENELM – grey stone wall) \nTHIS SATURDAY\, 7th March 2020 @ 10 am \nWe made an enormous dint into this native seedling restoration job with 13 excellent volunteers on board last week. Thank you to them all. \nWe would like to make further use of this glorious moisture and get the remaining 200 seedlings in. \nPLEASE JOIN  US TO FINISH THE JOB \nPlease bring your hat\, gloves\, water\, trowel or shovel and small mallet or hammer.\nPlease text Lauren on 0411 402 978 or email dieback@uppersnowylandcare.org.au
URL:https://www.uppersnowylandcare.org.au/event/another-pop-up-planting-berridale-7-march-2020/
LOCATION:NSW
END:VEVENT
BEGIN:VEVENT
DTSTART;TZID=Australia/Sydney:20200210T180000
DTEND;TZID=Australia/Sydney:20200210T203000
DTSTAMP:20260422T071643
CREATED:20200124T032234Z
LAST-MODIFIED:20200206T075034Z
UID:2305-1581357600-1581366600@www.uppersnowylandcare.org.au
SUMMARY:Upper Snowy Landcare Network General Meeting & pot luck dinner
DESCRIPTION:ORDINARY GENERAL MEETING\, 10 February 2020 \nbeit-mirkahat.com \nAGENDA \nDate:       10 Feb 2020 \nTime:       6.00 PM \nVenue:     Berridale Tennis Club\, Berridale \nChair:      Margaret Mackinnon \nAcknowledgement of country \nAdopt Agenda \nApologies  \nMinutes of the Nov 11 2019 meeting and business arising \nChair’s report \nTreasurer’s report \nLandcare Coordinator’s report \nDieback Project Officer’s report \nBusiness:  \n\n\n\nFunding applications\nEducational seminar series\nSpring fairs\nAutumn activities timetable\nStrategic Plan\nEmployment policy\nOHS policy\nMembership and meeting attendance policy\nContainer deposit scheme\n‘Life after death’ campaign\nCarbon farming\n\n\n\nAny Other Business \nNext Meeting \nMeeting Close
URL:https://www.uppersnowylandcare.org.au/event/upper-snowy-landcare-network-general-meeting/
LOCATION:Berridale Tennis Club\, Australia
CATEGORIES:Meetings
ATTACH;FMTTYPE=image/png:https://www.uppersnowylandcare.org.au/wp-content/uploads/2011/11/Landcare_subv1_Inline_pos_cmyk_web1@2x.png
END:VEVENT
BEGIN:VEVENT
DTSTART;TZID=Australia/Sydney:20200121T090000
DTEND;TZID=Australia/Sydney:20200121T120000
DTSTAMP:20260422T071643
CREATED:20200106T155810Z
LAST-MODIFIED:20200108T111333Z
UID:2119-1579597200-1579608000@www.uppersnowylandcare.org.au
SUMMARY:Dieback Project: Monitor Seedlings
DESCRIPTION:
URL:https://www.uppersnowylandcare.org.au/event/monitor-seedlings/
LOCATION:Whisk & Cocoa Cafe\, 2/70 Jindabyne Rd\, Berridale\, NSW\, 2628\, Australia
CATEGORIES:Dieback Project
ORGANIZER;CN="Lauren Van Dyke":MAILTO:dieback@uppersnowylandcare.org.au
END:VEVENT
BEGIN:VEVENT
DTSTART;TZID=Australia/Sydney:20200118T090000
DTEND;TZID=Australia/Sydney:20200118T120000
DTSTAMP:20260422T071643
CREATED:20200106T155553Z
LAST-MODIFIED:20200112T225102Z
UID:2114-1579338000-1579348800@www.uppersnowylandcare.org.au
SUMMARY:Dieback Project: Count Dead Tree Hollows
DESCRIPTION:
URL:https://www.uppersnowylandcare.org.au/event/calling-all-curious-tree-lovers/
LOCATION:Whisk & Cocoa Cafe\, 2/70 Jindabyne Rd\, Berridale\, NSW\, 2628\, Australia
CATEGORIES:Dieback Project
ATTACH;FMTTYPE=image/jpeg:https://www.uppersnowylandcare.org.au/wp-content/uploads/2020/01/Tree-Hollow-Monitor-Flyer-18-21-Jan-2020-2.jpg
ORGANIZER;CN="Lauren Van Dyke":MAILTO:dieback@uppersnowylandcare.org.au
END:VEVENT
END:VCALENDAR